BEGIN:VCALENDAR
VERSION:2.0
PRODID:-//animals.net.au - ECPv6.15.20//NONSGML v1.0//EN
CALSCALE:GREGORIAN
METHOD:PUBLISH
X-WR-CALNAME:animals.net.au
X-ORIGINAL-URL:https://animals.net.au
X-WR-CALDESC:Events for animals.net.au
REFRESH-INTERVAL;VALUE=DURATION:PT1H
X-Robots-Tag:noindex
X-PUBLISHED-TTL:PT1H
BEGIN:VTIMEZONE
TZID:UTC
BEGIN:STANDARD
TZOFFSETFROM:+0000
TZOFFSETTO:+0000
TZNAME:UTC
DTSTART:20190101T000000
END:STANDARD
END:VTIMEZONE
BEGIN:VEVENT
DTSTART;TZID=UTC:20200815T070000
DTEND;TZID=UTC:20200815T140000
DTSTAMP:20260424T161330
CREATED:20161202T174956Z
LAST-MODIFIED:20161202T174956Z
UID:1183-1597474800-1597500000@animals.net.au
SUMMARY:Duis nec eros in nunc maximus ornars
DESCRIPTION:[vc_row][vc_column] Curabitur non erat ut orci malesuada egestas. Fusce eget ex massa. Mauris egestas lectus et dui laoreet euismod. In nec varius leo. Etiam porttitor velit orci\, at dictum lectus iaculis non. Quisque vitae risus ac dolor tempor rhoncus. Mauris in metus a nisi volutpat convallis. In hac habitasse platea dictumst. Maecenas aliquet et felis quis convallis. Donec in porta libero. Nunc ante dui\, dictum ac tincidunt ut\, vehicula eget tellus. \nDonec pulvinar magna id leo pellentesque imperdiet. Sed dignissim rhoncus ex at euismod. Duis euismod eros vitae accumsan lacinia. Fusce auctor consectetur dapibus. Vestibulum ac ex nec turpis commodo molestie. Nam et sapien lacinia\, varius odio vel\, lobortis dui. Cras eu egestas magna\, vitae cursus accsan mauris.[/vc_column][/vc_row]
URL:https://animals.net.au/event/duis-nec-eros-in-nunc-maximus-ornare-3/
LOCATION:Union Square\, 54\, Station Road\, New York\, NY\, 56789\, United States
CATEGORIES:Help Nature,Support Society
ATTACH;FMTTYPE=image/png:https://animals.net.au/wp-content/uploads/2016/12/sample-large.png
ORGANIZER;CN="Best Event Organizer":MAILTO:info@loremips.com
END:VEVENT
END:VCALENDAR